BEGIN:VCALENDAR
VERSION:2.0
PRODID:-//Pannka - ECPv6.6.2//NONSGML v1.0//EN
CALSCALE:GREGORIAN
METHOD:PUBLISH
X-WR-CALNAME:Pannka
X-ORIGINAL-URL:https://pannka.hu
X-WR-CALDESC:Events for Pannka
REFRESH-INTERVAL;VALUE=DURATION:PT1H
X-Robots-Tag:noindex
X-PUBLISHED-TTL:PT1H
BEGIN:VTIMEZONE
TZID:Europe/Budapest
BEGIN:DAYLIGHT
TZOFFSETFROM:+0100
TZOFFSETTO:+0200
TZNAME:CEST
DTSTART:20260329T010000
END:DAYLIGHT
BEGIN:STANDARD
TZOFFSETFROM:+0200
TZOFFSETTO:+0100
TZNAME:CET
DTSTART:20261025T010000
END:STANDARD
END:VTIMEZONE
BEGIN:VEVENT
DTSTART;TZID=Europe/Budapest:20260427T100000
DTEND;TZID=Europe/Budapest:20260427T103000
DTSTAMP:20260425T175631
CREATED:20251222T135129Z
LAST-MODIFIED:20260401T113745Z
UID:10006440-1777284000-1777285800@pannka.hu
SUMMARY:Baba torna 0\,5-1 éveseknek
DESCRIPTION:Baba torna 0\,5-1 éveseknek \n  \nA legkisebbeknek tartott tornák célja a későbbi játszótéri biztonság és ügyesség megalapozása és kialakítása egy játékkal és énekkel színesített közegben. \nHorváth Éva\, a foglalkozástartó perinatális szaktanácsadó\, szomatopszichoterápiás szakember és mozgásfejlesztő hölgy a foglalkozások keretén belül igény szerint lehetőséget biztosít az édesanyáknak a korai mozgásfejlesztés kapcsán felmerült kérdéseik megválaszolására. Emellett támogatást nyújt a mozgástapasztalat által nyújtott biztonságos tanulással kapcsolatban és segíti a gyermek testnyelvének megértését. \nA programra becsatlakozni a kezdést követő max. 5 percben lehet. \nBelépődíj: Partnerkártya nélkül: 2500 Ft/ 1 gyermek + 1 kísérő\, Partnerkártyával: 1000 Ft / 1 gyermek + 1 kísérő \nHelyszín: PannKa Part Közösségi Tér\, 1137 Budapest\, Újpesti rakpart 6. \nA foglalkozást vezeti: Horváth Éva rekreációs szakember\, mozgásfejlesztő és perinatális szaktanácsadó \n  \nA programra előzetes regisztráció szükséges a www.pannka.hu oldalon! \n  \nREGISZTRÁCIÓ KEZDETE: A PROGRAMOT MEGELŐZŐ HÉT PÉNTEK 14.00\n  \nA programváltozás jogát fenntartjuk!
URL:https://pannka.hu/program/baba-torna-05-1-eveseknek-69/2026-04-27/
CATEGORIES:PannKa Part programok
END:VEVENT
BEGIN:VEVENT
DTSTART;TZID=Europe/Budapest:20260504T100000
DTEND;TZID=Europe/Budapest:20260504T103000
DTSTAMP:20260425T175631
CREATED:20251222T135129Z
LAST-MODIFIED:20260401T113745Z
UID:10006583-1777888800-1777890600@pannka.hu
SUMMARY:Baba torna 0\,5-1 éveseknek
DESCRIPTION:Baba torna 0\,5-1 éveseknek \n  \nA legkisebbeknek tartott tornák célja a későbbi játszótéri biztonság és ügyesség megalapozása és kialakítása egy játékkal és énekkel színesített közegben. \nHorváth Éva\, a foglalkozástartó perinatális szaktanácsadó\, szomatopszichoterápiás szakember és mozgásfejlesztő hölgy a foglalkozások keretén belül igény szerint lehetőséget biztosít az édesanyáknak a korai mozgásfejlesztés kapcsán felmerült kérdéseik megválaszolására. Emellett támogatást nyújt a mozgástapasztalat által nyújtott biztonságos tanulással kapcsolatban és segíti a gyermek testnyelvének megértését. \nA programra becsatlakozni a kezdést követő max. 5 percben lehet. \nBelépődíj: Partnerkártya nélkül: 2500 Ft/ 1 gyermek + 1 kísérő\, Partnerkártyával: 1000 Ft / 1 gyermek + 1 kísérő \nHelyszín: PannKa Part Közösségi Tér\, 1137 Budapest\, Újpesti rakpart 6. \nA foglalkozást vezeti: Horváth Éva rekreációs szakember\, mozgásfejlesztő és perinatális szaktanácsadó \n  \nA programra előzetes regisztráció szükséges a www.pannka.hu oldalon! \n  \nREGISZTRÁCIÓ KEZDETE: A PROGRAMOT MEGELŐZŐ HÉT PÉNTEK 14.00\n  \nA programváltozás jogát fenntartjuk!
URL:https://pannka.hu/program/baba-torna-05-1-eveseknek-69/2026-05-04/
CATEGORIES:PannKa Part programok
END:VEVENT
BEGIN:VEVENT
DTSTART;TZID=Europe/Budapest:20260511T100000
DTEND;TZID=Europe/Budapest:20260511T103000
DTSTAMP:20260425T175631
CREATED:20251222T135129Z
LAST-MODIFIED:20260401T113745Z
UID:10006584-1778493600-1778495400@pannka.hu
SUMMARY:Baba torna 0\,5-1 éveseknek
DESCRIPTION:Baba torna 0\,5-1 éveseknek \n  \nA legkisebbeknek tartott tornák célja a későbbi játszótéri biztonság és ügyesség megalapozása és kialakítása egy játékkal és énekkel színesített közegben. \nHorváth Éva\, a foglalkozástartó perinatális szaktanácsadó\, szomatopszichoterápiás szakember és mozgásfejlesztő hölgy a foglalkozások keretén belül igény szerint lehetőséget biztosít az édesanyáknak a korai mozgásfejlesztés kapcsán felmerült kérdéseik megválaszolására. Emellett támogatást nyújt a mozgástapasztalat által nyújtott biztonságos tanulással kapcsolatban és segíti a gyermek testnyelvének megértését. \nA programra becsatlakozni a kezdést követő max. 5 percben lehet. \nBelépődíj: Partnerkártya nélkül: 2500 Ft/ 1 gyermek + 1 kísérő\, Partnerkártyával: 1000 Ft / 1 gyermek + 1 kísérő \nHelyszín: PannKa Part Közösségi Tér\, 1137 Budapest\, Újpesti rakpart 6. \nA foglalkozást vezeti: Horváth Éva rekreációs szakember\, mozgásfejlesztő és perinatális szaktanácsadó \n  \nA programra előzetes regisztráció szükséges a www.pannka.hu oldalon! \n  \nREGISZTRÁCIÓ KEZDETE: A PROGRAMOT MEGELŐZŐ HÉT PÉNTEK 14.00\n  \nA programváltozás jogát fenntartjuk!
URL:https://pannka.hu/program/baba-torna-05-1-eveseknek-69/2026-05-11/
CATEGORIES:PannKa Part programok
END:VEVENT
BEGIN:VEVENT
DTSTART;TZID=Europe/Budapest:20260518T100000
DTEND;TZID=Europe/Budapest:20260518T103000
DTSTAMP:20260425T175631
CREATED:20251222T135129Z
LAST-MODIFIED:20260401T113745Z
UID:10006585-1779098400-1779100200@pannka.hu
SUMMARY:Baba torna 0\,5-1 éveseknek
DESCRIPTION:Baba torna 0\,5-1 éveseknek \n  \nA legkisebbeknek tartott tornák célja a későbbi játszótéri biztonság és ügyesség megalapozása és kialakítása egy játékkal és énekkel színesített közegben. \nHorváth Éva\, a foglalkozástartó perinatális szaktanácsadó\, szomatopszichoterápiás szakember és mozgásfejlesztő hölgy a foglalkozások keretén belül igény szerint lehetőséget biztosít az édesanyáknak a korai mozgásfejlesztés kapcsán felmerült kérdéseik megválaszolására. Emellett támogatást nyújt a mozgástapasztalat által nyújtott biztonságos tanulással kapcsolatban és segíti a gyermek testnyelvének megértését. \nA programra becsatlakozni a kezdést követő max. 5 percben lehet. \nBelépődíj: Partnerkártya nélkül: 2500 Ft/ 1 gyermek + 1 kísérő\, Partnerkártyával: 1000 Ft / 1 gyermek + 1 kísérő \nHelyszín: PannKa Part Közösségi Tér\, 1137 Budapest\, Újpesti rakpart 6. \nA foglalkozást vezeti: Horváth Éva rekreációs szakember\, mozgásfejlesztő és perinatális szaktanácsadó \n  \nA programra előzetes regisztráció szükséges a www.pannka.hu oldalon! \n  \nREGISZTRÁCIÓ KEZDETE: A PROGRAMOT MEGELŐZŐ HÉT PÉNTEK 14.00\n  \nA programváltozás jogát fenntartjuk!
URL:https://pannka.hu/program/baba-torna-05-1-eveseknek-69/2026-05-18/
CATEGORIES:PannKa Part programok
END:VEVENT
BEGIN:VEVENT
DTSTART;TZID=Europe/Budapest:20260601T100000
DTEND;TZID=Europe/Budapest:20260601T103000
DTSTAMP:20260425T175631
CREATED:20251222T135129Z
LAST-MODIFIED:20260401T113745Z
UID:10006586-1780308000-1780309800@pannka.hu
SUMMARY:Baba torna 0\,5-1 éveseknek
DESCRIPTION:Baba torna 0\,5-1 éveseknek \n  \nA legkisebbeknek tartott tornák célja a későbbi játszótéri biztonság és ügyesség megalapozása és kialakítása egy játékkal és énekkel színesített közegben. \nHorváth Éva\, a foglalkozástartó perinatális szaktanácsadó\, szomatopszichoterápiás szakember és mozgásfejlesztő hölgy a foglalkozások keretén belül igény szerint lehetőséget biztosít az édesanyáknak a korai mozgásfejlesztés kapcsán felmerült kérdéseik megválaszolására. Emellett támogatást nyújt a mozgástapasztalat által nyújtott biztonságos tanulással kapcsolatban és segíti a gyermek testnyelvének megértését. \nA programra becsatlakozni a kezdést követő max. 5 percben lehet. \nBelépődíj: Partnerkártya nélkül: 2500 Ft/ 1 gyermek + 1 kísérő\, Partnerkártyával: 1000 Ft / 1 gyermek + 1 kísérő \nHelyszín: PannKa Part Közösségi Tér\, 1137 Budapest\, Újpesti rakpart 6. \nA foglalkozást vezeti: Horváth Éva rekreációs szakember\, mozgásfejlesztő és perinatális szaktanácsadó \n  \nA programra előzetes regisztráció szükséges a www.pannka.hu oldalon! \n  \nREGISZTRÁCIÓ KEZDETE: A PROGRAMOT MEGELŐZŐ HÉT PÉNTEK 14.00\n  \nA programváltozás jogát fenntartjuk!
URL:https://pannka.hu/program/baba-torna-05-1-eveseknek-69/2026-06-01/
CATEGORIES:PannKa Part programok
END:VEVENT
BEGIN:VEVENT
DTSTART;TZID=Europe/Budapest:20260608T100000
DTEND;TZID=Europe/Budapest:20260608T103000
DTSTAMP:20260425T175631
CREATED:20251222T135129Z
LAST-MODIFIED:20260401T113745Z
UID:10006587-1780912800-1780914600@pannka.hu
SUMMARY:Baba torna 0\,5-1 éveseknek
DESCRIPTION:Baba torna 0\,5-1 éveseknek \n  \nA legkisebbeknek tartott tornák célja a későbbi játszótéri biztonság és ügyesség megalapozása és kialakítása egy játékkal és énekkel színesített közegben. \nHorváth Éva\, a foglalkozástartó perinatális szaktanácsadó\, szomatopszichoterápiás szakember és mozgásfejlesztő hölgy a foglalkozások keretén belül igény szerint lehetőséget biztosít az édesanyáknak a korai mozgásfejlesztés kapcsán felmerült kérdéseik megválaszolására. Emellett támogatást nyújt a mozgástapasztalat által nyújtott biztonságos tanulással kapcsolatban és segíti a gyermek testnyelvének megértését. \nA programra becsatlakozni a kezdést követő max. 5 percben lehet. \nBelépődíj: Partnerkártya nélkül: 2500 Ft/ 1 gyermek + 1 kísérő\, Partnerkártyával: 1000 Ft / 1 gyermek + 1 kísérő \nHelyszín: PannKa Part Közösségi Tér\, 1137 Budapest\, Újpesti rakpart 6. \nA foglalkozást vezeti: Horváth Éva rekreációs szakember\, mozgásfejlesztő és perinatális szaktanácsadó \n  \nA programra előzetes regisztráció szükséges a www.pannka.hu oldalon! \n  \nREGISZTRÁCIÓ KEZDETE: A PROGRAMOT MEGELŐZŐ HÉT PÉNTEK 14.00\n  \nA programváltozás jogát fenntartjuk!
URL:https://pannka.hu/program/baba-torna-05-1-eveseknek-69/2026-06-08/
CATEGORIES:PannKa Part programok
END:VEVENT
END:VCALENDAR