BEGIN:VCALENDAR
VERSION:2.0
PRODID:-//Pannka - ECPv6.6.2//NONSGML v1.0//EN
CALSCALE:GREGORIAN
METHOD:PUBLISH
X-WR-CALNAME:Pannka
X-ORIGINAL-URL:https://pannka.hu
X-WR-CALDESC:Events for Pannka
REFRESH-INTERVAL;VALUE=DURATION:PT1H
X-Robots-Tag:noindex
X-PUBLISHED-TTL:PT1H
BEGIN:VTIMEZONE
TZID:Europe/Budapest
BEGIN:DAYLIGHT
TZOFFSETFROM:+0100
TZOFFSETTO:+0200
TZNAME:CEST
DTSTART:20260329T010000
END:DAYLIGHT
BEGIN:STANDARD
TZOFFSETFROM:+0200
TZOFFSETTO:+0100
TZNAME:CET
DTSTART:20261025T010000
END:STANDARD
END:VTIMEZONE
BEGIN:VEVENT
DTSTART;TZID=Europe/Budapest:20260428T100000
DTEND;TZID=Europe/Budapest:20260428T104500
DTSTAMP:20260425T231402
CREATED:20251222T142709Z
LAST-MODIFIED:20260401T113855Z
UID:10006465-1777370400-1777373100@pannka.hu
SUMMARY:Dúdoló Mariskával
DESCRIPTION:Dúdoló Mariskával \n  \nA Dúdoló egy kötetlen foglalkozás ölbeli játékokkal\, röcögtetőkkel\, sétáltatókkal és rövid versekkel. A résztvevők megismerkedhetnek a kis álomszuszék Bóbitával\, később az erdei állatok is előmerészkednek rejtekhelyükről\, és egy kis mese is kerekedik. A vidám közös játékot ukulele- és furulyaszó kíséri. \nA programra becsatlakozni a kezdést követő max. 5 percben lehet.\nA foglalkozásokat vezeti: Sz. Nagy Mária bábszínész \nAjánlott korosztály: 0-3 éveseknek \nBelépődíj: A programok XIII. kerületi Partner Kártyával 1000 Ft/gyermek+ 1 kísérő\, Partner Kártya nélkül 2500 Ft/gyermek+ 1 kísérő \nA programra előzetes regisztráció szükséges a www.pannka.hu oldalon! \nREGISZTRÁCIÓ KEZDETE: A PROGRAMOT MEGELŐZŐ HÉT PÉNTEK 14.00\nA programváltozás jogát fenntartjuk!
URL:https://pannka.hu/program/dudolo-mariskaval-143/2026-04-28/
CATEGORIES:PannKa Part programok
END:VEVENT
BEGIN:VEVENT
DTSTART;TZID=Europe/Budapest:20260505T100000
DTEND;TZID=Europe/Budapest:20260505T104500
DTSTAMP:20260425T231402
CREATED:20251222T142709Z
LAST-MODIFIED:20260401T113855Z
UID:10006598-1777975200-1777977900@pannka.hu
SUMMARY:Dúdoló Mariskával
DESCRIPTION:Dúdoló Mariskával \n  \nA Dúdoló egy kötetlen foglalkozás ölbeli játékokkal\, röcögtetőkkel\, sétáltatókkal és rövid versekkel. A résztvevők megismerkedhetnek a kis álomszuszék Bóbitával\, később az erdei állatok is előmerészkednek rejtekhelyükről\, és egy kis mese is kerekedik. A vidám közös játékot ukulele- és furulyaszó kíséri. \nA programra becsatlakozni a kezdést követő max. 5 percben lehet.\nA foglalkozásokat vezeti: Sz. Nagy Mária bábszínész \nAjánlott korosztály: 0-3 éveseknek \nBelépődíj: A programok XIII. kerületi Partner Kártyával 1000 Ft/gyermek+ 1 kísérő\, Partner Kártya nélkül 2500 Ft/gyermek+ 1 kísérő \nA programra előzetes regisztráció szükséges a www.pannka.hu oldalon! \nREGISZTRÁCIÓ KEZDETE: A PROGRAMOT MEGELŐZŐ HÉT PÉNTEK 14.00\nA programváltozás jogát fenntartjuk!
URL:https://pannka.hu/program/dudolo-mariskaval-143/2026-05-05/
CATEGORIES:PannKa Part programok
END:VEVENT
BEGIN:VEVENT
DTSTART;TZID=Europe/Budapest:20260512T100000
DTEND;TZID=Europe/Budapest:20260512T104500
DTSTAMP:20260425T231402
CREATED:20251222T142709Z
LAST-MODIFIED:20260401T113855Z
UID:10006599-1778580000-1778582700@pannka.hu
SUMMARY:Dúdoló Mariskával
DESCRIPTION:Dúdoló Mariskával \n  \nA Dúdoló egy kötetlen foglalkozás ölbeli játékokkal\, röcögtetőkkel\, sétáltatókkal és rövid versekkel. A résztvevők megismerkedhetnek a kis álomszuszék Bóbitával\, később az erdei állatok is előmerészkednek rejtekhelyükről\, és egy kis mese is kerekedik. A vidám közös játékot ukulele- és furulyaszó kíséri. \nA programra becsatlakozni a kezdést követő max. 5 percben lehet.\nA foglalkozásokat vezeti: Sz. Nagy Mária bábszínész \nAjánlott korosztály: 0-3 éveseknek \nBelépődíj: A programok XIII. kerületi Partner Kártyával 1000 Ft/gyermek+ 1 kísérő\, Partner Kártya nélkül 2500 Ft/gyermek+ 1 kísérő \nA programra előzetes regisztráció szükséges a www.pannka.hu oldalon! \nREGISZTRÁCIÓ KEZDETE: A PROGRAMOT MEGELŐZŐ HÉT PÉNTEK 14.00\nA programváltozás jogát fenntartjuk!
URL:https://pannka.hu/program/dudolo-mariskaval-143/2026-05-12/
CATEGORIES:PannKa Part programok
END:VEVENT
BEGIN:VEVENT
DTSTART;TZID=Europe/Budapest:20260519T100000
DTEND;TZID=Europe/Budapest:20260519T104500
DTSTAMP:20260425T231402
CREATED:20251222T142709Z
LAST-MODIFIED:20260401T113855Z
UID:10006600-1779184800-1779187500@pannka.hu
SUMMARY:Dúdoló Mariskával
DESCRIPTION:Dúdoló Mariskával \n  \nA Dúdoló egy kötetlen foglalkozás ölbeli játékokkal\, röcögtetőkkel\, sétáltatókkal és rövid versekkel. A résztvevők megismerkedhetnek a kis álomszuszék Bóbitával\, később az erdei állatok is előmerészkednek rejtekhelyükről\, és egy kis mese is kerekedik. A vidám közös játékot ukulele- és furulyaszó kíséri. \nA programra becsatlakozni a kezdést követő max. 5 percben lehet.\nA foglalkozásokat vezeti: Sz. Nagy Mária bábszínész \nAjánlott korosztály: 0-3 éveseknek \nBelépődíj: A programok XIII. kerületi Partner Kártyával 1000 Ft/gyermek+ 1 kísérő\, Partner Kártya nélkül 2500 Ft/gyermek+ 1 kísérő \nA programra előzetes regisztráció szükséges a www.pannka.hu oldalon! \nREGISZTRÁCIÓ KEZDETE: A PROGRAMOT MEGELŐZŐ HÉT PÉNTEK 14.00\nA programváltozás jogát fenntartjuk!
URL:https://pannka.hu/program/dudolo-mariskaval-143/2026-05-19/
CATEGORIES:PannKa Part programok
END:VEVENT
BEGIN:VEVENT
DTSTART;TZID=Europe/Budapest:20260526T100000
DTEND;TZID=Europe/Budapest:20260526T104500
DTSTAMP:20260425T231402
CREATED:20251222T142709Z
LAST-MODIFIED:20260401T113855Z
UID:10006601-1779789600-1779792300@pannka.hu
SUMMARY:Dúdoló Mariskával
DESCRIPTION:Dúdoló Mariskával \n  \nA Dúdoló egy kötetlen foglalkozás ölbeli játékokkal\, röcögtetőkkel\, sétáltatókkal és rövid versekkel. A résztvevők megismerkedhetnek a kis álomszuszék Bóbitával\, később az erdei állatok is előmerészkednek rejtekhelyükről\, és egy kis mese is kerekedik. A vidám közös játékot ukulele- és furulyaszó kíséri. \nA programra becsatlakozni a kezdést követő max. 5 percben lehet.\nA foglalkozásokat vezeti: Sz. Nagy Mária bábszínész \nAjánlott korosztály: 0-3 éveseknek \nBelépődíj: A programok XIII. kerületi Partner Kártyával 1000 Ft/gyermek+ 1 kísérő\, Partner Kártya nélkül 2500 Ft/gyermek+ 1 kísérő \nA programra előzetes regisztráció szükséges a www.pannka.hu oldalon! \nREGISZTRÁCIÓ KEZDETE: A PROGRAMOT MEGELŐZŐ HÉT PÉNTEK 14.00\nA programváltozás jogát fenntartjuk!
URL:https://pannka.hu/program/dudolo-mariskaval-143/2026-05-26/
CATEGORIES:PannKa Part programok
END:VEVENT
BEGIN:VEVENT
DTSTART;TZID=Europe/Budapest:20260602T100000
DTEND;TZID=Europe/Budapest:20260602T104500
DTSTAMP:20260425T231402
CREATED:20251222T142709Z
LAST-MODIFIED:20260401T113855Z
UID:10006602-1780394400-1780397100@pannka.hu
SUMMARY:Dúdoló Mariskával
DESCRIPTION:Dúdoló Mariskával \n  \nA Dúdoló egy kötetlen foglalkozás ölbeli játékokkal\, röcögtetőkkel\, sétáltatókkal és rövid versekkel. A résztvevők megismerkedhetnek a kis álomszuszék Bóbitával\, később az erdei állatok is előmerészkednek rejtekhelyükről\, és egy kis mese is kerekedik. A vidám közös játékot ukulele- és furulyaszó kíséri. \nA programra becsatlakozni a kezdést követő max. 5 percben lehet.\nA foglalkozásokat vezeti: Sz. Nagy Mária bábszínész \nAjánlott korosztály: 0-3 éveseknek \nBelépődíj: A programok XIII. kerületi Partner Kártyával 1000 Ft/gyermek+ 1 kísérő\, Partner Kártya nélkül 2500 Ft/gyermek+ 1 kísérő \nA programra előzetes regisztráció szükséges a www.pannka.hu oldalon! \nREGISZTRÁCIÓ KEZDETE: A PROGRAMOT MEGELŐZŐ HÉT PÉNTEK 14.00\nA programváltozás jogát fenntartjuk!
URL:https://pannka.hu/program/dudolo-mariskaval-143/2026-06-02/
CATEGORIES:PannKa Part programok
END:VEVENT
BEGIN:VEVENT
DTSTART;TZID=Europe/Budapest:20260609T100000
DTEND;TZID=Europe/Budapest:20260609T104500
DTSTAMP:20260425T231402
CREATED:20251222T142709Z
LAST-MODIFIED:20260401T113855Z
UID:10006603-1780999200-1781001900@pannka.hu
SUMMARY:Dúdoló Mariskával
DESCRIPTION:Dúdoló Mariskával \n  \nA Dúdoló egy kötetlen foglalkozás ölbeli játékokkal\, röcögtetőkkel\, sétáltatókkal és rövid versekkel. A résztvevők megismerkedhetnek a kis álomszuszék Bóbitával\, később az erdei állatok is előmerészkednek rejtekhelyükről\, és egy kis mese is kerekedik. A vidám közös játékot ukulele- és furulyaszó kíséri. \nA programra becsatlakozni a kezdést követő max. 5 percben lehet.\nA foglalkozásokat vezeti: Sz. Nagy Mária bábszínész \nAjánlott korosztály: 0-3 éveseknek \nBelépődíj: A programok XIII. kerületi Partner Kártyával 1000 Ft/gyermek+ 1 kísérő\, Partner Kártya nélkül 2500 Ft/gyermek+ 1 kísérő \nA programra előzetes regisztráció szükséges a www.pannka.hu oldalon! \nREGISZTRÁCIÓ KEZDETE: A PROGRAMOT MEGELŐZŐ HÉT PÉNTEK 14.00\nA programváltozás jogát fenntartjuk!
URL:https://pannka.hu/program/dudolo-mariskaval-143/2026-06-09/
CATEGORIES:PannKa Part programok
END:VEVENT
END:VCALENDAR