BEGIN:VCALENDAR
VERSION:2.0
PRODID:-//Pannka - ECPv6.6.2//NONSGML v1.0//EN
CALSCALE:GREGORIAN
METHOD:PUBLISH
X-WR-CALNAME:Pannka
X-ORIGINAL-URL:https://pannka.hu
X-WR-CALDESC:Events for Pannka
REFRESH-INTERVAL;VALUE=DURATION:PT1H
X-Robots-Tag:noindex
X-PUBLISHED-TTL:PT1H
BEGIN:VTIMEZONE
TZID:Europe/Budapest
BEGIN:DAYLIGHT
TZOFFSETFROM:+0100
TZOFFSETTO:+0200
TZNAME:CEST
DTSTART:20260329T010000
END:DAYLIGHT
BEGIN:STANDARD
TZOFFSETFROM:+0200
TZOFFSETTO:+0100
TZNAME:CET
DTSTART:20261025T010000
END:STANDARD
END:VTIMEZONE
BEGIN:VEVENT
DTSTART;TZID=Europe/Budapest:20260430T170000
DTEND;TZID=Europe/Budapest:20260430T180000
DTSTAMP:20260425T224252
CREATED:20251218T093604Z
LAST-MODIFIED:20260401T113304Z
UID:10006408-1777568400-1777572000@pannka.hu
SUMMARY:Varázsecset – ahol a képzelet életre kel!
DESCRIPTION:Varázsecset – ahol a képzelet életre kel! \n  \nGyermeked szeret rajzolni\, festeni? A Varázsecset Stúdióban minden kisiskolás megtapasztalhatja az alkotás örömét miközben játékosan fejlődik a kreativitásuk. Színek\, formák\, különleges technikák és rengeteg móka vár itt a PannKában. Barátságos\, biztonságos környezet\, szakértő irányítása\, kis létszámú csoportok. \nA foglalkozást vezeti: Bódis Oxána képzőművész\, tehetséggondozó szakember \nAjánlott korosztály: 6-10 éves korig \nBelépődíj: A programok XIII. kerületi Partnerkártyával 2500 Ft / gyermek\, Partnerkártya nélkül 3500 Ft/gyermek \nA programra előzetes regisztráció szükséges a www.pannka.hu oldalon! \nREGISZTRÁCIÓ KEZDETE: A PROGRAMOT MEGELŐZŐ HÉT PÉNTEK 14.00\n  \nA programváltozás jogát fenntartjuk!
URL:https://pannka.hu/program/varazsecset-ahol-a-kepzelet-eletre-kel-2/2026-04-30/
CATEGORIES:PannKa programok
END:VEVENT
BEGIN:VEVENT
DTSTART;TZID=Europe/Budapest:20260507T170000
DTEND;TZID=Europe/Budapest:20260507T180000
DTSTAMP:20260425T224252
CREATED:20251218T093604Z
LAST-MODIFIED:20260401T113304Z
UID:10006562-1778173200-1778176800@pannka.hu
SUMMARY:Varázsecset – ahol a képzelet életre kel!
DESCRIPTION:Varázsecset – ahol a képzelet életre kel! \n  \nGyermeked szeret rajzolni\, festeni? A Varázsecset Stúdióban minden kisiskolás megtapasztalhatja az alkotás örömét miközben játékosan fejlődik a kreativitásuk. Színek\, formák\, különleges technikák és rengeteg móka vár itt a PannKában. Barátságos\, biztonságos környezet\, szakértő irányítása\, kis létszámú csoportok. \nA foglalkozást vezeti: Bódis Oxána képzőművész\, tehetséggondozó szakember \nAjánlott korosztály: 6-10 éves korig \nBelépődíj: A programok XIII. kerületi Partnerkártyával 2500 Ft / gyermek\, Partnerkártya nélkül 3500 Ft/gyermek \nA programra előzetes regisztráció szükséges a www.pannka.hu oldalon! \nREGISZTRÁCIÓ KEZDETE: A PROGRAMOT MEGELŐZŐ HÉT PÉNTEK 14.00\n  \nA programváltozás jogát fenntartjuk!
URL:https://pannka.hu/program/varazsecset-ahol-a-kepzelet-eletre-kel-2/2026-05-07/
CATEGORIES:PannKa programok
END:VEVENT
BEGIN:VEVENT
DTSTART;TZID=Europe/Budapest:20260514T170000
DTEND;TZID=Europe/Budapest:20260514T180000
DTSTAMP:20260425T224252
CREATED:20251218T093604Z
LAST-MODIFIED:20260401T113304Z
UID:10006563-1778778000-1778781600@pannka.hu
SUMMARY:Varázsecset – ahol a képzelet életre kel!
DESCRIPTION:Varázsecset – ahol a képzelet életre kel! \n  \nGyermeked szeret rajzolni\, festeni? A Varázsecset Stúdióban minden kisiskolás megtapasztalhatja az alkotás örömét miközben játékosan fejlődik a kreativitásuk. Színek\, formák\, különleges technikák és rengeteg móka vár itt a PannKában. Barátságos\, biztonságos környezet\, szakértő irányítása\, kis létszámú csoportok. \nA foglalkozást vezeti: Bódis Oxána képzőművész\, tehetséggondozó szakember \nAjánlott korosztály: 6-10 éves korig \nBelépődíj: A programok XIII. kerületi Partnerkártyával 2500 Ft / gyermek\, Partnerkártya nélkül 3500 Ft/gyermek \nA programra előzetes regisztráció szükséges a www.pannka.hu oldalon! \nREGISZTRÁCIÓ KEZDETE: A PROGRAMOT MEGELŐZŐ HÉT PÉNTEK 14.00\n  \nA programváltozás jogát fenntartjuk!
URL:https://pannka.hu/program/varazsecset-ahol-a-kepzelet-eletre-kel-2/2026-05-14/
CATEGORIES:PannKa programok
END:VEVENT
BEGIN:VEVENT
DTSTART;TZID=Europe/Budapest:20260521T170000
DTEND;TZID=Europe/Budapest:20260521T180000
DTSTAMP:20260425T224252
CREATED:20251218T093604Z
LAST-MODIFIED:20260401T113304Z
UID:10006564-1779382800-1779386400@pannka.hu
SUMMARY:Varázsecset – ahol a képzelet életre kel!
DESCRIPTION:Varázsecset – ahol a képzelet életre kel! \n  \nGyermeked szeret rajzolni\, festeni? A Varázsecset Stúdióban minden kisiskolás megtapasztalhatja az alkotás örömét miközben játékosan fejlődik a kreativitásuk. Színek\, formák\, különleges technikák és rengeteg móka vár itt a PannKában. Barátságos\, biztonságos környezet\, szakértő irányítása\, kis létszámú csoportok. \nA foglalkozást vezeti: Bódis Oxána képzőművész\, tehetséggondozó szakember \nAjánlott korosztály: 6-10 éves korig \nBelépődíj: A programok XIII. kerületi Partnerkártyával 2500 Ft / gyermek\, Partnerkártya nélkül 3500 Ft/gyermek \nA programra előzetes regisztráció szükséges a www.pannka.hu oldalon! \nREGISZTRÁCIÓ KEZDETE: A PROGRAMOT MEGELŐZŐ HÉT PÉNTEK 14.00\n  \nA programváltozás jogát fenntartjuk!
URL:https://pannka.hu/program/varazsecset-ahol-a-kepzelet-eletre-kel-2/2026-05-21/
CATEGORIES:PannKa programok
END:VEVENT
BEGIN:VEVENT
DTSTART;TZID=Europe/Budapest:20260528T170000
DTEND;TZID=Europe/Budapest:20260528T180000
DTSTAMP:20260425T224252
CREATED:20251218T093604Z
LAST-MODIFIED:20260401T113304Z
UID:10006565-1779987600-1779991200@pannka.hu
SUMMARY:Varázsecset – ahol a képzelet életre kel!
DESCRIPTION:Varázsecset – ahol a képzelet életre kel! \n  \nGyermeked szeret rajzolni\, festeni? A Varázsecset Stúdióban minden kisiskolás megtapasztalhatja az alkotás örömét miközben játékosan fejlődik a kreativitásuk. Színek\, formák\, különleges technikák és rengeteg móka vár itt a PannKában. Barátságos\, biztonságos környezet\, szakértő irányítása\, kis létszámú csoportok. \nA foglalkozást vezeti: Bódis Oxána képzőművész\, tehetséggondozó szakember \nAjánlott korosztály: 6-10 éves korig \nBelépődíj: A programok XIII. kerületi Partnerkártyával 2500 Ft / gyermek\, Partnerkártya nélkül 3500 Ft/gyermek \nA programra előzetes regisztráció szükséges a www.pannka.hu oldalon! \nREGISZTRÁCIÓ KEZDETE: A PROGRAMOT MEGELŐZŐ HÉT PÉNTEK 14.00\n  \nA programváltozás jogát fenntartjuk!
URL:https://pannka.hu/program/varazsecset-ahol-a-kepzelet-eletre-kel-2/2026-05-28/
CATEGORIES:PannKa programok
END:VEVENT
BEGIN:VEVENT
DTSTART;TZID=Europe/Budapest:20260604T170000
DTEND;TZID=Europe/Budapest:20260604T180000
DTSTAMP:20260425T224252
CREATED:20251218T093604Z
LAST-MODIFIED:20260401T113304Z
UID:10006566-1780592400-1780596000@pannka.hu
SUMMARY:Varázsecset – ahol a képzelet életre kel!
DESCRIPTION:Varázsecset – ahol a képzelet életre kel! \n  \nGyermeked szeret rajzolni\, festeni? A Varázsecset Stúdióban minden kisiskolás megtapasztalhatja az alkotás örömét miközben játékosan fejlődik a kreativitásuk. Színek\, formák\, különleges technikák és rengeteg móka vár itt a PannKában. Barátságos\, biztonságos környezet\, szakértő irányítása\, kis létszámú csoportok. \nA foglalkozást vezeti: Bódis Oxána képzőművész\, tehetséggondozó szakember \nAjánlott korosztály: 6-10 éves korig \nBelépődíj: A programok XIII. kerületi Partnerkártyával 2500 Ft / gyermek\, Partnerkártya nélkül 3500 Ft/gyermek \nA programra előzetes regisztráció szükséges a www.pannka.hu oldalon! \nREGISZTRÁCIÓ KEZDETE: A PROGRAMOT MEGELŐZŐ HÉT PÉNTEK 14.00\n  \nA programváltozás jogát fenntartjuk!
URL:https://pannka.hu/program/varazsecset-ahol-a-kepzelet-eletre-kel-2/2026-06-04/
CATEGORIES:PannKa programok
END:VEVENT
BEGIN:VEVENT
DTSTART;TZID=Europe/Budapest:20260611T170000
DTEND;TZID=Europe/Budapest:20260611T180000
DTSTAMP:20260425T224252
CREATED:20251218T093604Z
LAST-MODIFIED:20260401T113304Z
UID:10006567-1781197200-1781200800@pannka.hu
SUMMARY:Varázsecset – ahol a képzelet életre kel!
DESCRIPTION:Varázsecset – ahol a képzelet életre kel! \n  \nGyermeked szeret rajzolni\, festeni? A Varázsecset Stúdióban minden kisiskolás megtapasztalhatja az alkotás örömét miközben játékosan fejlődik a kreativitásuk. Színek\, formák\, különleges technikák és rengeteg móka vár itt a PannKában. Barátságos\, biztonságos környezet\, szakértő irányítása\, kis létszámú csoportok. \nA foglalkozást vezeti: Bódis Oxána képzőművész\, tehetséggondozó szakember \nAjánlott korosztály: 6-10 éves korig \nBelépődíj: A programok XIII. kerületi Partnerkártyával 2500 Ft / gyermek\, Partnerkártya nélkül 3500 Ft/gyermek \nA programra előzetes regisztráció szükséges a www.pannka.hu oldalon! \nREGISZTRÁCIÓ KEZDETE: A PROGRAMOT MEGELŐZŐ HÉT PÉNTEK 14.00\n  \nA programváltozás jogát fenntartjuk!
URL:https://pannka.hu/program/varazsecset-ahol-a-kepzelet-eletre-kel-2/2026-06-11/
CATEGORIES:PannKa programok
END:VEVENT
END:VCALENDAR