BEGIN:VCALENDAR
VERSION:2.0
PRODID:-//Pannka - ECPv6.6.2//NONSGML v1.0//EN
CALSCALE:GREGORIAN
METHOD:PUBLISH
X-ORIGINAL-URL:https://pannka.hu
X-WR-CALDESC:Events for Pannka
REFRESH-INTERVAL;VALUE=DURATION:PT1H
X-Robots-Tag:noindex
X-PUBLISHED-TTL:PT1H
BEGIN:VTIMEZONE
TZID:Europe/Budapest
BEGIN:DAYLIGHT
TZOFFSETFROM:+0100
TZOFFSETTO:+0200
TZNAME:CEST
DTSTART:20260329T010000
END:DAYLIGHT
BEGIN:STANDARD
TZOFFSETFROM:+0200
TZOFFSETTO:+0100
TZNAME:CET
DTSTART:20261025T010000
END:STANDARD
END:VTIMEZONE
BEGIN:VEVENT
DTSTART;TZID=Europe/Budapest:20260427T103000
DTEND;TZID=Europe/Budapest:20260427T111500
DTSTAMP:20260425T181219
CREATED:20251222T135328Z
LAST-MODIFIED:20260401T113804Z
UID:10006448-1777285800-1777288500@pannka.hu
SUMMARY:Szülés utáni torna
DESCRIPTION:Szülés utáni torna \n  \nA legkisebbeknek tartott tornák célja a későbbi játszótéri biztonság és ügyesség megalapozása és kialakítása egy játékkal és énekkel színesített közegben. \nHorváth Éva\, a foglalkozástartó perinatális szaktanácsadó\, szomatopszichoterápiás szakember és mozgásfejlesztő hölgy a foglalkozások keretén belül igény szerint lehetőséget biztosít az édesanyáknak a korai mozgásfejlesztés kapcsán felmerült kérdéseik megválaszolására. Emellett támogatást nyújt a mozgástapasztalat által nyújtott biztonságos tanulással kapcsolatban és segíti a gyermek testnyelvének megértését. \nA programra becsatlakozni a kezdést követő max. 5 percben lehet. \nBelépődíj: Partnerkártya nélkül: 2500 Ft/ 1 gyermek + 1 kísérő\, Partnerkártyával: 1000 Ft / 1 gyermek + 1 kísérő \nHelyszín: PannKa Part Közösségi Tér\, 1137 Budapest\, Újpesti rakpart 6. \nA foglalkozást vezeti: Horváth Éva rekreációs szakember\, mozgásfejlesztő és perinatális szaktanácsadó \n  \nA programra előzetes regisztráció szükséges a www.pannka.hu oldalon! \n  \nREGISZTRÁCIÓ KEZDETE: A PROGRAMOT MEGELŐZŐ HÉT PÉNTEK 14.00\n  \nA programváltozás jogát fenntartjuk!
URL:https://pannka.hu/program/szules-utani-torna-79/2026-04-27/
CATEGORIES:PannKa Part programok
END:VEVENT
BEGIN:VEVENT
DTSTART;TZID=Europe/Budapest:20260504T103000
DTEND;TZID=Europe/Budapest:20260504T111500
DTSTAMP:20260425T181219
CREATED:20251222T135328Z
LAST-MODIFIED:20260401T113804Z
UID:10006588-1777890600-1777893300@pannka.hu
SUMMARY:Szülés utáni torna
DESCRIPTION:Szülés utáni torna \n  \nA legkisebbeknek tartott tornák célja a későbbi játszótéri biztonság és ügyesség megalapozása és kialakítása egy játékkal és énekkel színesített közegben. \nHorváth Éva\, a foglalkozástartó perinatális szaktanácsadó\, szomatopszichoterápiás szakember és mozgásfejlesztő hölgy a foglalkozások keretén belül igény szerint lehetőséget biztosít az édesanyáknak a korai mozgásfejlesztés kapcsán felmerült kérdéseik megválaszolására. Emellett támogatást nyújt a mozgástapasztalat által nyújtott biztonságos tanulással kapcsolatban és segíti a gyermek testnyelvének megértését. \nA programra becsatlakozni a kezdést követő max. 5 percben lehet. \nBelépődíj: Partnerkártya nélkül: 2500 Ft/ 1 gyermek + 1 kísérő\, Partnerkártyával: 1000 Ft / 1 gyermek + 1 kísérő \nHelyszín: PannKa Part Közösségi Tér\, 1137 Budapest\, Újpesti rakpart 6. \nA foglalkozást vezeti: Horváth Éva rekreációs szakember\, mozgásfejlesztő és perinatális szaktanácsadó \n  \nA programra előzetes regisztráció szükséges a www.pannka.hu oldalon! \n  \nREGISZTRÁCIÓ KEZDETE: A PROGRAMOT MEGELŐZŐ HÉT PÉNTEK 14.00\n  \nA programváltozás jogát fenntartjuk!
URL:https://pannka.hu/program/szules-utani-torna-79/2026-05-04/
CATEGORIES:PannKa Part programok
END:VEVENT
BEGIN:VEVENT
DTSTART;TZID=Europe/Budapest:20260511T103000
DTEND;TZID=Europe/Budapest:20260511T111500
DTSTAMP:20260425T181219
CREATED:20251222T135328Z
LAST-MODIFIED:20260401T113804Z
UID:10006589-1778495400-1778498100@pannka.hu
SUMMARY:Szülés utáni torna
DESCRIPTION:Szülés utáni torna \n  \nA legkisebbeknek tartott tornák célja a későbbi játszótéri biztonság és ügyesség megalapozása és kialakítása egy játékkal és énekkel színesített közegben. \nHorváth Éva\, a foglalkozástartó perinatális szaktanácsadó\, szomatopszichoterápiás szakember és mozgásfejlesztő hölgy a foglalkozások keretén belül igény szerint lehetőséget biztosít az édesanyáknak a korai mozgásfejlesztés kapcsán felmerült kérdéseik megválaszolására. Emellett támogatást nyújt a mozgástapasztalat által nyújtott biztonságos tanulással kapcsolatban és segíti a gyermek testnyelvének megértését. \nA programra becsatlakozni a kezdést követő max. 5 percben lehet. \nBelépődíj: Partnerkártya nélkül: 2500 Ft/ 1 gyermek + 1 kísérő\, Partnerkártyával: 1000 Ft / 1 gyermek + 1 kísérő \nHelyszín: PannKa Part Közösségi Tér\, 1137 Budapest\, Újpesti rakpart 6. \nA foglalkozást vezeti: Horváth Éva rekreációs szakember\, mozgásfejlesztő és perinatális szaktanácsadó \n  \nA programra előzetes regisztráció szükséges a www.pannka.hu oldalon! \n  \nREGISZTRÁCIÓ KEZDETE: A PROGRAMOT MEGELŐZŐ HÉT PÉNTEK 14.00\n  \nA programváltozás jogát fenntartjuk!
URL:https://pannka.hu/program/szules-utani-torna-79/2026-05-11/
CATEGORIES:PannKa Part programok
END:VEVENT
BEGIN:VEVENT
DTSTART;TZID=Europe/Budapest:20260518T103000
DTEND;TZID=Europe/Budapest:20260518T111500
DTSTAMP:20260425T181219
CREATED:20251222T135328Z
LAST-MODIFIED:20260401T113804Z
UID:10006590-1779100200-1779102900@pannka.hu
SUMMARY:Szülés utáni torna
DESCRIPTION:Szülés utáni torna \n  \nA legkisebbeknek tartott tornák célja a későbbi játszótéri biztonság és ügyesség megalapozása és kialakítása egy játékkal és énekkel színesített közegben. \nHorváth Éva\, a foglalkozástartó perinatális szaktanácsadó\, szomatopszichoterápiás szakember és mozgásfejlesztő hölgy a foglalkozások keretén belül igény szerint lehetőséget biztosít az édesanyáknak a korai mozgásfejlesztés kapcsán felmerült kérdéseik megválaszolására. Emellett támogatást nyújt a mozgástapasztalat által nyújtott biztonságos tanulással kapcsolatban és segíti a gyermek testnyelvének megértését. \nA programra becsatlakozni a kezdést követő max. 5 percben lehet. \nBelépődíj: Partnerkártya nélkül: 2500 Ft/ 1 gyermek + 1 kísérő\, Partnerkártyával: 1000 Ft / 1 gyermek + 1 kísérő \nHelyszín: PannKa Part Közösségi Tér\, 1137 Budapest\, Újpesti rakpart 6. \nA foglalkozást vezeti: Horváth Éva rekreációs szakember\, mozgásfejlesztő és perinatális szaktanácsadó \n  \nA programra előzetes regisztráció szükséges a www.pannka.hu oldalon! \n  \nREGISZTRÁCIÓ KEZDETE: A PROGRAMOT MEGELŐZŐ HÉT PÉNTEK 14.00\n  \nA programváltozás jogát fenntartjuk!
URL:https://pannka.hu/program/szules-utani-torna-79/2026-05-18/
CATEGORIES:PannKa Part programok
END:VEVENT
BEGIN:VEVENT
DTSTART;TZID=Europe/Budapest:20260601T103000
DTEND;TZID=Europe/Budapest:20260601T111500
DTSTAMP:20260425T181219
CREATED:20251222T135328Z
LAST-MODIFIED:20260401T113804Z
UID:10006591-1780309800-1780312500@pannka.hu
SUMMARY:Szülés utáni torna
DESCRIPTION:Szülés utáni torna \n  \nA legkisebbeknek tartott tornák célja a későbbi játszótéri biztonság és ügyesség megalapozása és kialakítása egy játékkal és énekkel színesített közegben. \nHorváth Éva\, a foglalkozástartó perinatális szaktanácsadó\, szomatopszichoterápiás szakember és mozgásfejlesztő hölgy a foglalkozások keretén belül igény szerint lehetőséget biztosít az édesanyáknak a korai mozgásfejlesztés kapcsán felmerült kérdéseik megválaszolására. Emellett támogatást nyújt a mozgástapasztalat által nyújtott biztonságos tanulással kapcsolatban és segíti a gyermek testnyelvének megértését. \nA programra becsatlakozni a kezdést követő max. 5 percben lehet. \nBelépődíj: Partnerkártya nélkül: 2500 Ft/ 1 gyermek + 1 kísérő\, Partnerkártyával: 1000 Ft / 1 gyermek + 1 kísérő \nHelyszín: PannKa Part Közösségi Tér\, 1137 Budapest\, Újpesti rakpart 6. \nA foglalkozást vezeti: Horváth Éva rekreációs szakember\, mozgásfejlesztő és perinatális szaktanácsadó \n  \nA programra előzetes regisztráció szükséges a www.pannka.hu oldalon! \n  \nREGISZTRÁCIÓ KEZDETE: A PROGRAMOT MEGELŐZŐ HÉT PÉNTEK 14.00\n  \nA programváltozás jogát fenntartjuk!
URL:https://pannka.hu/program/szules-utani-torna-79/2026-06-01/
CATEGORIES:PannKa Part programok
END:VEVENT
BEGIN:VEVENT
DTSTART;TZID=Europe/Budapest:20260608T103000
DTEND;TZID=Europe/Budapest:20260608T111500
DTSTAMP:20260425T181219
CREATED:20251222T135328Z
LAST-MODIFIED:20260401T113804Z
UID:10006592-1780914600-1780917300@pannka.hu
SUMMARY:Szülés utáni torna
DESCRIPTION:Szülés utáni torna \n  \nA legkisebbeknek tartott tornák célja a későbbi játszótéri biztonság és ügyesség megalapozása és kialakítása egy játékkal és énekkel színesített közegben. \nHorváth Éva\, a foglalkozástartó perinatális szaktanácsadó\, szomatopszichoterápiás szakember és mozgásfejlesztő hölgy a foglalkozások keretén belül igény szerint lehetőséget biztosít az édesanyáknak a korai mozgásfejlesztés kapcsán felmerült kérdéseik megválaszolására. Emellett támogatást nyújt a mozgástapasztalat által nyújtott biztonságos tanulással kapcsolatban és segíti a gyermek testnyelvének megértését. \nA programra becsatlakozni a kezdést követő max. 5 percben lehet. \nBelépődíj: Partnerkártya nélkül: 2500 Ft/ 1 gyermek + 1 kísérő\, Partnerkártyával: 1000 Ft / 1 gyermek + 1 kísérő \nHelyszín: PannKa Part Közösségi Tér\, 1137 Budapest\, Újpesti rakpart 6. \nA foglalkozást vezeti: Horváth Éva rekreációs szakember\, mozgásfejlesztő és perinatális szaktanácsadó \n  \nA programra előzetes regisztráció szükséges a www.pannka.hu oldalon! \n  \nREGISZTRÁCIÓ KEZDETE: A PROGRAMOT MEGELŐZŐ HÉT PÉNTEK 14.00\n  \nA programváltozás jogát fenntartjuk!
URL:https://pannka.hu/program/szules-utani-torna-79/2026-06-08/
CATEGORIES:PannKa Part programok
END:VEVENT
END:VCALENDAR