BEGIN:VCALENDAR
VERSION:2.0
PRODID:-//Pannka - ECPv6.6.2//NONSGML v1.0//EN
CALSCALE:GREGORIAN
METHOD:PUBLISH
X-ORIGINAL-URL:https://pannka.hu
X-WR-CALDESC:Events for Pannka
REFRESH-INTERVAL;VALUE=DURATION:PT1H
X-Robots-Tag:noindex
X-PUBLISHED-TTL:PT1H
BEGIN:VTIMEZONE
TZID:Europe/Budapest
BEGIN:DAYLIGHT
TZOFFSETFROM:+0100
TZOFFSETTO:+0200
TZNAME:CEST
DTSTART:20260329T010000
END:DAYLIGHT
BEGIN:STANDARD
TZOFFSETFROM:+0200
TZOFFSETTO:+0100
TZNAME:CET
DTSTART:20261025T010000
END:STANDARD
END:VTIMEZONE
BEGIN:VEVENT
DTSTART;TZID=Europe/Budapest:20260427T093000
DTEND;TZID=Europe/Budapest:20260427T100000
DTSTAMP:20260425T174508
CREATED:20251222T134941Z
LAST-MODIFIED:20260401T113729Z
UID:10006432-1777282200-1777284000@pannka.hu
SUMMARY:Manó torna 1-2 éveseknek
DESCRIPTION:Manó torna 1-2 éveseknek \n  \nA legkisebbeknek tartott tornák célja a későbbi játszótéri biztonság és ügyesség megalapozása és kialakítása egy játékkal és énekkel színesített közegben. \nHorváth Éva\, a foglalkozástartó perinatális szaktanácsadó\, szomatopszichoterápiás szakember és mozgásfejlesztő hölgy a foglalkozások keretén belül igény szerint lehetőséget biztosít az édesanyáknak a korai mozgásfejlesztés kapcsán felmerült kérdéseik megválaszolására. Emellett támogatást nyújt a mozgástapasztalat által nyújtott biztonságos tanulással kapcsolatban és segíti a gyermek testnyelvének megértését. \nA programra becsatlakozni a kezdést követő max. 5 percben lehet. \nBelépődíj: Partnerkártya nélkül: 2500 Ft/ 1 gyermek + 1 kísérő\, Partnerkártyával: 1000 Ft / 1 gyermek + 1 kísérő \nHelyszín: PannKa Part Közösségi Tér\, 1137 Budapest\, Újpesti rakpart 6. \nA foglalkozást vezeti: Horváth Éva rekreációs szakember\, mozgásfejlesztő és perinatális szaktanácsadó \n  \nA programra előzetes regisztráció szükséges a www.pannka.hu oldalon! \n  \nREGISZTRÁCIÓ KEZDETE: A PROGRAMOT MEGELŐZŐ HÉT PÉNTEK 14.00\n  \nA programváltozás jogát fenntartjuk!
URL:https://pannka.hu/program/mano-torna-1-2-eveseknek/2026-04-27/
CATEGORIES:PannKa Part programok
END:VEVENT
BEGIN:VEVENT
DTSTART;TZID=Europe/Budapest:20260504T093000
DTEND;TZID=Europe/Budapest:20260504T100000
DTSTAMP:20260425T174508
CREATED:20251222T134941Z
LAST-MODIFIED:20260401T113729Z
UID:10006578-1777887000-1777888800@pannka.hu
SUMMARY:Manó torna 1-2 éveseknek
DESCRIPTION:Manó torna 1-2 éveseknek \n  \nA legkisebbeknek tartott tornák célja a későbbi játszótéri biztonság és ügyesség megalapozása és kialakítása egy játékkal és énekkel színesített közegben. \nHorváth Éva\, a foglalkozástartó perinatális szaktanácsadó\, szomatopszichoterápiás szakember és mozgásfejlesztő hölgy a foglalkozások keretén belül igény szerint lehetőséget biztosít az édesanyáknak a korai mozgásfejlesztés kapcsán felmerült kérdéseik megválaszolására. Emellett támogatást nyújt a mozgástapasztalat által nyújtott biztonságos tanulással kapcsolatban és segíti a gyermek testnyelvének megértését. \nA programra becsatlakozni a kezdést követő max. 5 percben lehet. \nBelépődíj: Partnerkártya nélkül: 2500 Ft/ 1 gyermek + 1 kísérő\, Partnerkártyával: 1000 Ft / 1 gyermek + 1 kísérő \nHelyszín: PannKa Part Közösségi Tér\, 1137 Budapest\, Újpesti rakpart 6. \nA foglalkozást vezeti: Horváth Éva rekreációs szakember\, mozgásfejlesztő és perinatális szaktanácsadó \n  \nA programra előzetes regisztráció szükséges a www.pannka.hu oldalon! \n  \nREGISZTRÁCIÓ KEZDETE: A PROGRAMOT MEGELŐZŐ HÉT PÉNTEK 14.00\n  \nA programváltozás jogát fenntartjuk!
URL:https://pannka.hu/program/mano-torna-1-2-eveseknek/2026-05-04/
CATEGORIES:PannKa Part programok
END:VEVENT
BEGIN:VEVENT
DTSTART;TZID=Europe/Budapest:20260511T093000
DTEND;TZID=Europe/Budapest:20260511T100000
DTSTAMP:20260425T174508
CREATED:20251222T134941Z
LAST-MODIFIED:20260401T113729Z
UID:10006579-1778491800-1778493600@pannka.hu
SUMMARY:Manó torna 1-2 éveseknek
DESCRIPTION:Manó torna 1-2 éveseknek \n  \nA legkisebbeknek tartott tornák célja a későbbi játszótéri biztonság és ügyesség megalapozása és kialakítása egy játékkal és énekkel színesített közegben. \nHorváth Éva\, a foglalkozástartó perinatális szaktanácsadó\, szomatopszichoterápiás szakember és mozgásfejlesztő hölgy a foglalkozások keretén belül igény szerint lehetőséget biztosít az édesanyáknak a korai mozgásfejlesztés kapcsán felmerült kérdéseik megválaszolására. Emellett támogatást nyújt a mozgástapasztalat által nyújtott biztonságos tanulással kapcsolatban és segíti a gyermek testnyelvének megértését. \nA programra becsatlakozni a kezdést követő max. 5 percben lehet. \nBelépődíj: Partnerkártya nélkül: 2500 Ft/ 1 gyermek + 1 kísérő\, Partnerkártyával: 1000 Ft / 1 gyermek + 1 kísérő \nHelyszín: PannKa Part Közösségi Tér\, 1137 Budapest\, Újpesti rakpart 6. \nA foglalkozást vezeti: Horváth Éva rekreációs szakember\, mozgásfejlesztő és perinatális szaktanácsadó \n  \nA programra előzetes regisztráció szükséges a www.pannka.hu oldalon! \n  \nREGISZTRÁCIÓ KEZDETE: A PROGRAMOT MEGELŐZŐ HÉT PÉNTEK 14.00\n  \nA programváltozás jogát fenntartjuk!
URL:https://pannka.hu/program/mano-torna-1-2-eveseknek/2026-05-11/
CATEGORIES:PannKa Part programok
END:VEVENT
BEGIN:VEVENT
DTSTART;TZID=Europe/Budapest:20260518T093000
DTEND;TZID=Europe/Budapest:20260518T100000
DTSTAMP:20260425T174508
CREATED:20251222T134941Z
LAST-MODIFIED:20260401T113729Z
UID:10006580-1779096600-1779098400@pannka.hu
SUMMARY:Manó torna 1-2 éveseknek
DESCRIPTION:Manó torna 1-2 éveseknek \n  \nA legkisebbeknek tartott tornák célja a későbbi játszótéri biztonság és ügyesség megalapozása és kialakítása egy játékkal és énekkel színesített közegben. \nHorváth Éva\, a foglalkozástartó perinatális szaktanácsadó\, szomatopszichoterápiás szakember és mozgásfejlesztő hölgy a foglalkozások keretén belül igény szerint lehetőséget biztosít az édesanyáknak a korai mozgásfejlesztés kapcsán felmerült kérdéseik megválaszolására. Emellett támogatást nyújt a mozgástapasztalat által nyújtott biztonságos tanulással kapcsolatban és segíti a gyermek testnyelvének megértését. \nA programra becsatlakozni a kezdést követő max. 5 percben lehet. \nBelépődíj: Partnerkártya nélkül: 2500 Ft/ 1 gyermek + 1 kísérő\, Partnerkártyával: 1000 Ft / 1 gyermek + 1 kísérő \nHelyszín: PannKa Part Közösségi Tér\, 1137 Budapest\, Újpesti rakpart 6. \nA foglalkozást vezeti: Horváth Éva rekreációs szakember\, mozgásfejlesztő és perinatális szaktanácsadó \n  \nA programra előzetes regisztráció szükséges a www.pannka.hu oldalon! \n  \nREGISZTRÁCIÓ KEZDETE: A PROGRAMOT MEGELŐZŐ HÉT PÉNTEK 14.00\n  \nA programváltozás jogát fenntartjuk!
URL:https://pannka.hu/program/mano-torna-1-2-eveseknek/2026-05-18/
CATEGORIES:PannKa Part programok
END:VEVENT
BEGIN:VEVENT
DTSTART;TZID=Europe/Budapest:20260601T093000
DTEND;TZID=Europe/Budapest:20260601T100000
DTSTAMP:20260425T174508
CREATED:20251222T134941Z
LAST-MODIFIED:20260401T113729Z
UID:10006581-1780306200-1780308000@pannka.hu
SUMMARY:Manó torna 1-2 éveseknek
DESCRIPTION:Manó torna 1-2 éveseknek \n  \nA legkisebbeknek tartott tornák célja a későbbi játszótéri biztonság és ügyesség megalapozása és kialakítása egy játékkal és énekkel színesített közegben. \nHorváth Éva\, a foglalkozástartó perinatális szaktanácsadó\, szomatopszichoterápiás szakember és mozgásfejlesztő hölgy a foglalkozások keretén belül igény szerint lehetőséget biztosít az édesanyáknak a korai mozgásfejlesztés kapcsán felmerült kérdéseik megválaszolására. Emellett támogatást nyújt a mozgástapasztalat által nyújtott biztonságos tanulással kapcsolatban és segíti a gyermek testnyelvének megértését. \nA programra becsatlakozni a kezdést követő max. 5 percben lehet. \nBelépődíj: Partnerkártya nélkül: 2500 Ft/ 1 gyermek + 1 kísérő\, Partnerkártyával: 1000 Ft / 1 gyermek + 1 kísérő \nHelyszín: PannKa Part Közösségi Tér\, 1137 Budapest\, Újpesti rakpart 6. \nA foglalkozást vezeti: Horváth Éva rekreációs szakember\, mozgásfejlesztő és perinatális szaktanácsadó \n  \nA programra előzetes regisztráció szükséges a www.pannka.hu oldalon! \n  \nREGISZTRÁCIÓ KEZDETE: A PROGRAMOT MEGELŐZŐ HÉT PÉNTEK 14.00\n  \nA programváltozás jogát fenntartjuk!
URL:https://pannka.hu/program/mano-torna-1-2-eveseknek/2026-06-01/
CATEGORIES:PannKa Part programok
END:VEVENT
BEGIN:VEVENT
DTSTART;TZID=Europe/Budapest:20260608T093000
DTEND;TZID=Europe/Budapest:20260608T100000
DTSTAMP:20260425T174509
CREATED:20251222T134941Z
LAST-MODIFIED:20260401T113729Z
UID:10006582-1780911000-1780912800@pannka.hu
SUMMARY:Manó torna 1-2 éveseknek
DESCRIPTION:Manó torna 1-2 éveseknek \n  \nA legkisebbeknek tartott tornák célja a későbbi játszótéri biztonság és ügyesség megalapozása és kialakítása egy játékkal és énekkel színesített közegben. \nHorváth Éva\, a foglalkozástartó perinatális szaktanácsadó\, szomatopszichoterápiás szakember és mozgásfejlesztő hölgy a foglalkozások keretén belül igény szerint lehetőséget biztosít az édesanyáknak a korai mozgásfejlesztés kapcsán felmerült kérdéseik megválaszolására. Emellett támogatást nyújt a mozgástapasztalat által nyújtott biztonságos tanulással kapcsolatban és segíti a gyermek testnyelvének megértését. \nA programra becsatlakozni a kezdést követő max. 5 percben lehet. \nBelépődíj: Partnerkártya nélkül: 2500 Ft/ 1 gyermek + 1 kísérő\, Partnerkártyával: 1000 Ft / 1 gyermek + 1 kísérő \nHelyszín: PannKa Part Közösségi Tér\, 1137 Budapest\, Újpesti rakpart 6. \nA foglalkozást vezeti: Horváth Éva rekreációs szakember\, mozgásfejlesztő és perinatális szaktanácsadó \n  \nA programra előzetes regisztráció szükséges a www.pannka.hu oldalon! \n  \nREGISZTRÁCIÓ KEZDETE: A PROGRAMOT MEGELŐZŐ HÉT PÉNTEK 14.00\n  \nA programváltozás jogát fenntartjuk!
URL:https://pannka.hu/program/mano-torna-1-2-eveseknek/2026-06-08/
CATEGORIES:PannKa Part programok
END:VEVENT
END:VCALENDAR